BEGIN:VCALENDAR
VERSION:2.0
PRODID:-//agricoeur.be - ECPv6.15.17//NONSGML v1.0//EN
CALSCALE:GREGORIAN
METHOD:PUBLISH
X-WR-CALNAME:agricoeur.be
X-ORIGINAL-URL:https://www.agricoeur.be
X-WR-CALDESC:Évènements pour agricoeur.be
REFRESH-INTERVAL;VALUE=DURATION:PT1H
X-Robots-Tag:noindex
X-PUBLISHED-TTL:PT1H
BEGIN:VTIMEZONE
TZID:Europe/Paris
BEGIN:DAYLIGHT
TZOFFSETFROM:+0100
TZOFFSETTO:+0200
TZNAME:CEST
DTSTART:20220327T010000
END:DAYLIGHT
BEGIN:STANDARD
TZOFFSETFROM:+0200
TZOFFSETTO:+0100
TZNAME:CET
DTSTART:20221030T010000
END:STANDARD
BEGIN:DAYLIGHT
TZOFFSETFROM:+0100
TZOFFSETTO:+0200
TZNAME:CEST
DTSTART:20230326T010000
END:DAYLIGHT
BEGIN:STANDARD
TZOFFSETFROM:+0200
TZOFFSETTO:+0100
TZNAME:CET
DTSTART:20231029T010000
END:STANDARD
BEGIN:DAYLIGHT
TZOFFSETFROM:+0100
TZOFFSETTO:+0200
TZNAME:CEST
DTSTART:20240331T010000
END:DAYLIGHT
BEGIN:STANDARD
TZOFFSETFROM:+0200
TZOFFSETTO:+0100
TZNAME:CET
DTSTART:20241027T010000
END:STANDARD
END:VTIMEZONE
BEGIN:VEVENT
DTSTART;TZID=Europe/Paris:20231007T100000
DTEND;TZID=Europe/Paris:20231007T230000
DTSTAMP:20260423T002912
CREATED:20231024T145841Z
LAST-MODIFIED:20231214T161543Z
UID:838-1696672800-1696719600@www.agricoeur.be
SUMMARY:Portes ouvertes Agricoeur
DESCRIPTION:La coopérative Agricoeur\, Tiers-Lieu nourricier et convivial à Frasnes-Lez-Gosselies\, ouvre ses portes et son jardin pour vous faire découvrir tout ce qui y vit. Venez y passer un bon moment en famille ou entre amis !\nAu programme :\n\nAteliers zéro déchet par Back to vrac : à 11h\, à 13h et à 16h\nAteliers découverte aromates par Sacrées Végétales : à 11h et à 13h\nAteliers de dégustation de bières : faux goûts par la Brasserie des Beaux Jours\nPrésentation du projet\, visite du bâtiment et des jardins avec les producteurs : 11h\, 14h et 17h\nJeux pour enfants : ateliers sérigraphie à base de plantes\, parcours en ballots de paille\, fresque Agricoeur\,…\nBar à thés\, burgers\, gâteaux\, bières et d’autres délicieux produits locaux\nDJ Agricoeur de 19h à 23h \n\nLes activités à découvrir sur place :\n\nEpiCoeur Coopérative : commandes en ligne de produits locaux en circuit court\nBack to Vrac : épicerie bio vrac\nBrasserie des Beaux Jours\nSacrées Végétales : tisanes artisanales\, sels aromatisés\, aromates\, jeunes plants\, bâtons de fumigation\, cadre fleurs séchées & animations\nLa Petite Cueilleuse : vins à base de fleurs\, huiles\, baumes\, sirops\, épices\,…\nCueillette buissonnière : bouquets de fleurs de saison\n\nLes partenaires du projet :\n\nGAL Pays des 4 Bras\nGroupe One\nCrédal\nCommune des Bons Villers\nGenappe Commune\nVillers-La-Ville et ses communes\nLe MONTY\nSAW-B\, Solidarité des Alternatives Wallonnes et Bruxelloises\nFinancé par : La Région Wallonne – SPW AgricultureTarif : gratuitPublic cible / âge : CitoyensEvènement facebook : Journée Portes Ouvertes Agricoeur | Facebook
URL:https://www.agricoeur.be/event/portes-ouvertes-agricoeur/
LOCATION:Agricoeur\, Rue de Sart-Dames-Avelines\, 8a\, Les Bons Villers\, Brabant Wallon\, 6210\, Belgique
CATEGORIES:Évènements
ATTACH;FMTTYPE=image/webp:https://www.agricoeur.be/wp-content/uploads/2023/10/2023107-portes-ouvertes-agricoeur.webp
END:VEVENT
BEGIN:VEVENT
DTSTART;TZID=Europe/Paris:20231019T080000
DTEND;TZID=Europe/Paris:20231019T093000
DTSTAMP:20260423T002912
CREATED:20231025T085756Z
LAST-MODIFIED:20231214T161509Z
UID:856-1697702400-1697707800@www.agricoeur.be
SUMMARY:1er petit-déjeuner économique des Bons Villers
DESCRIPTION:Descriptif : \nVous êtes commerçant\, indépendant\, gérant d’entreprise ou exerçant une profession libérale au sein du territoire des Bons Villers. La Commune des Bons Villers\, le GAL des 4 Bras et la coopérative Agricoeur vous convient à la première édition de leur événement de réseautage local : le 1er petit-déjeuner économique des Bons Villers. Le jeudi 19 octobre\, entre \, vous serez reçu au sein des bâtiments d’Agricoeur à Frasnes-lez-Gosselies pour prendre le café ou thé\, déguster une viennoiserie\, goûter les produits locaux et découvrir ensemble la richesse du secteur économique des Bons Villers. \nOrganisateur : Commune Les Bons Villers\, GAL du Pays des 4 Bras et Agricoeur \nTarif : gratuit \nPublic cible / âge : Entreprises des Bons Villers
URL:https://www.agricoeur.be/event/1er-petit-dejeuner-economique-des-bons-villers/
LOCATION:Agricoeur\, Rue de Sart-Dames-Avelines\, 8a\, Les Bons Villers\, Brabant Wallon\, 6210\, Belgique
CATEGORIES:Évènements
ATTACH;FMTTYPE=image/webp:https://www.agricoeur.be/wp-content/uploads/2023/10/20231019-petit-dej-entrepreneurs2.webp
END:VEVENT
END:VCALENDAR