BEGIN:VCALENDAR
VERSION:2.0
PRODID:-//agricoeur.be - ECPv6.15.17//NONSGML v1.0//EN
CALSCALE:GREGORIAN
METHOD:PUBLISH
X-ORIGINAL-URL:https://www.agricoeur.be
X-WR-CALDESC:Évènements pour agricoeur.be
REFRESH-INTERVAL;VALUE=DURATION:PT1H
X-Robots-Tag:noindex
X-PUBLISHED-TTL:PT1H
BEGIN:VTIMEZONE
TZID:Europe/Paris
BEGIN:DAYLIGHT
TZOFFSETFROM:+0100
TZOFFSETTO:+0200
TZNAME:CEST
DTSTART:20230326T010000
END:DAYLIGHT
BEGIN:STANDARD
TZOFFSETFROM:+0200
TZOFFSETTO:+0100
TZNAME:CET
DTSTART:20231029T010000
END:STANDARD
BEGIN:DAYLIGHT
TZOFFSETFROM:+0100
TZOFFSETTO:+0200
TZNAME:CEST
DTSTART:20240331T010000
END:DAYLIGHT
BEGIN:STANDARD
TZOFFSETFROM:+0200
TZOFFSETTO:+0100
TZNAME:CET
DTSTART:20241027T010000
END:STANDARD
BEGIN:DAYLIGHT
TZOFFSETFROM:+0100
TZOFFSETTO:+0200
TZNAME:CEST
DTSTART:20250330T010000
END:DAYLIGHT
BEGIN:STANDARD
TZOFFSETFROM:+0200
TZOFFSETTO:+0100
TZNAME:CET
DTSTART:20251026T010000
END:STANDARD
END:VTIMEZONE
BEGIN:VEVENT
DTSTART;VALUE=DATE:20240523
DTEND;VALUE=DATE:20240603
DTSTAMP:20260422T124941
CREATED:20240423T092648Z
LAST-MODIFIED:20240423T094045Z
UID:1764-1716422400-1717372799@www.agricoeur.be
SUMMARY:Nourrir à 4 Bras 2024 - Festival de la Transition Alimentaire
DESCRIPTION:Nourrir à 4 Bras\, c’est quoi ?\n\n\n\nLa vision du Festival « Nourrir à 4 Bras »\, qui connaîtra sa toute première édition cette année\, est de permettre de mieux connaître et repenser ensemble le système alimentaire pour devenir actrices et acteurs d’une transition durable et inclusive. \nL’objectif pour cette première édition 2024 est de visibiliser et faire connaître les producteurs et productrices locales et leurs réalités. En sensibilisant et en créant des liens entre mangeur·euses et producteur·rices\, via des projections de documentaires\, des moments festifs\, des chantiers participatifs\, des ateliers\, des portes ouvertes de fermes et d’épiceries locales et durables\,… Ce tissage de liens nous permettra\, en 2025\, d’aller un pas plus loin pour repenser ensemble le système alimentaire et promouvoir davantage l’accès à l’alimentation durable pour tous et toutes ! \nPour toutes autres informations et pour voir les prochains événements : https://nourrir-humanite.org/festival/nourrir-a-4-bras/le-programme/
URL:https://www.agricoeur.be/event/nourrir-a-4-bras-2024/
LOCATION:Brabant Wallon
CATEGORIES:Évènements
ATTACH;FMTTYPE=image/webp:https://www.agricoeur.be/wp-content/uploads/2024/04/Agenda-siteweb-4.webp
END:VEVENT
BEGIN:VEVENT
DTSTART;TZID=Europe/Paris:20240607T170000
DTEND;TZID=Europe/Paris:20240607T230000
DTSTAMP:20260422T124941
CREATED:20240321T124644Z
LAST-MODIFIED:20240529T131433Z
UID:1414-1717779600-1717801200@www.agricoeur.be
SUMMARY:Festi'Coeur
DESCRIPTION:C’est la fête chez Agricoeur\, le Festi’Coeur est de retour le vendredi 7 Juin de 17h à 23h !\nC’est LE moment festif de l’année à ne pas rater\, dans une ambiance chaleureuse\, détendue et festive.\n\nMarché des producteurs ultra-locaux: c’est l’occasion d’y rencontrer les producteurs et transformateurs de notre région et d’y déguster leurs produits faits avec amour et passion\nPetite restauration 100% locale\nBar sympa avec les bières\, vins et autres boissons locales\, produites chez Agricoeur et aux alentours\nAnimations musicales et laissez-vous emporter par les petits concerts de musiciens de chez nous\, et peut-être participer à notre jam session pour une expérience musicale unique\n\nRejoignez-nous pour célébrer l’arrivée de l’été lors de cette deuxième édition du Festi’Coeur où les produits locaux\, la musique et la bonne humeur sont à l’honneur !
URL:https://www.agricoeur.be/event/festicoeur/
LOCATION:Agricoeur\, Rue de Sart-Dames-Avelines\, 8a\, Les Bons Villers\, Brabant Wallon\, 6210\, Belgique
CATEGORIES:Évènements
ATTACH;FMTTYPE=image/webp:https://www.agricoeur.be/wp-content/uploads/2024/03/Festi_Coeur.webp
END:VEVENT
BEGIN:VEVENT
DTSTART;TZID=Europe/Paris:20240607T180000
DTEND;TZID=Europe/Paris:20240607T200000
DTSTAMP:20260422T124941
CREATED:20240418T100124Z
LAST-MODIFIED:20240423T074716Z
UID:1685-1717783200-1717790400@www.agricoeur.be
SUMMARY:Séance d'information - Appel à coopérateurs
DESCRIPTION:Visite d’Agricoeur et séance d’information pour l’appel à coopérateur le vendredi 07 juin lors du Festi’Coeur à 18h et à 19h Rejoignez-nous pour découvrir les chouettes activités sur place et comment vous pouvez contribuer à plus d’alimentation saine et locale dans la région. Inscrivez-vous dès maintenant (obligatoire) : https://docs.google.com/forms/d/e/1FAIpQLSd-A_DEsyB8t276cPwSw00S5-v-UDO3gMVc7xirM3V8Z_bbWQ/viewform
URL:https://www.agricoeur.be/event/seance-d-information-4/
LOCATION:Agricoeur\, Rue de Sart-Dames-Avelines\, 8a\, Les Bons Villers\, Brabant Wallon\, 6210\, Belgique
CATEGORIES:Évènements
ATTACH;FMTTYPE=image/png:https://www.agricoeur.be/wp-content/uploads/2024/04/Agenda-siteweb-3.png
END:VEVENT
BEGIN:VEVENT
DTSTART;TZID=Europe/Paris:20240630T100000
DTEND;TZID=Europe/Paris:20240630T180000
DTSTAMP:20260422T124941
CREATED:20240611T103215Z
LAST-MODIFIED:20240612T141234Z
UID:1881-1719741600-1719770400@www.agricoeur.be
SUMMARY:4ème Estival "Un Beau Dimanche"
DESCRIPTION:4e Estival Citoyen – Dimanche 30 juin de 10h à 18h  \n\nMarché de producteurs locaux – de 10h à 18h \nMarché d’artisans\, ateliers et initiations – de 10h à 18h  \nJeux\, animations – de 13h30 à 18h \nFanfare NERDS – 12h30 à 14h \n\n Présentation de la liste Citoyens Bonsvillersois pour les élections communales d’octobre 2024 \n Petite restauration & bar à prix démocratiquesChâteaux gonflables et jeux pour les enfants \n\nSite Agricoeur\, rue de Sart-Dames-Avelines 8A à 6210 Frasnes-lez-Gosselies (suivre les panneaux Back to Vrac)
URL:https://www.agricoeur.be/event/4eme-estival-un-beau-dimanche/
LOCATION:Agricoeur\, Rue de Sart-Dames-Avelines\, 8a\, Les Bons Villers\, Brabant Wallon\, 6210\, Belgique
CATEGORIES:Évènements
ATTACH;FMTTYPE=image/png:https://www.agricoeur.be/wp-content/uploads/2024/06/Agenda-siteweb-11.png
END:VEVENT
END:VCALENDAR