BEGIN:VCALENDAR
VERSION:2.0
PRODID:-//agricoeur.be - ECPv6.15.17//NONSGML v1.0//EN
CALSCALE:GREGORIAN
METHOD:PUBLISH
X-WR-CALNAME:agricoeur.be
X-ORIGINAL-URL:https://www.agricoeur.be
X-WR-CALDESC:Évènements pour agricoeur.be
REFRESH-INTERVAL;VALUE=DURATION:PT1H
X-Robots-Tag:noindex
X-PUBLISHED-TTL:PT1H
BEGIN:VTIMEZONE
TZID:Europe/Paris
BEGIN:DAYLIGHT
TZOFFSETFROM:+0100
TZOFFSETTO:+0200
TZNAME:CEST
DTSTART:20220327T010000
END:DAYLIGHT
BEGIN:STANDARD
TZOFFSETFROM:+0200
TZOFFSETTO:+0100
TZNAME:CET
DTSTART:20221030T010000
END:STANDARD
BEGIN:DAYLIGHT
TZOFFSETFROM:+0100
TZOFFSETTO:+0200
TZNAME:CEST
DTSTART:20230326T010000
END:DAYLIGHT
BEGIN:STANDARD
TZOFFSETFROM:+0200
TZOFFSETTO:+0100
TZNAME:CET
DTSTART:20231029T010000
END:STANDARD
BEGIN:DAYLIGHT
TZOFFSETFROM:+0100
TZOFFSETTO:+0200
TZNAME:CEST
DTSTART:20240331T010000
END:DAYLIGHT
BEGIN:STANDARD
TZOFFSETFROM:+0200
TZOFFSETTO:+0100
TZNAME:CET
DTSTART:20241027T010000
END:STANDARD
END:VTIMEZONE
BEGIN:VEVENT
DTSTART;TZID=Europe/Paris:20231201T170000
DTEND;TZID=Europe/Paris:20231201T230000
DTSTAMP:20260423T003130
CREATED:20231025T092624Z
LAST-MODIFIED:20231214T155942Z
UID:873-1701450000-1701471600@www.agricoeur.be
SUMMARY:Festi'Noël
DESCRIPTION:Inspirez-vous et faites votre shopping pour les cadeaux de noël au marché des artisans locaux chez Agricoeur. Venez déguster de bonnes boissons et de petits plats locaux dans une ambiance musicale festive. Pour les fans de cette saison qui réchauffe les coeurs\, un concours du pull de noël le plus original est organisé.  \nTarif : gratuit \nPublic cible / âge : Citoyen de tous âges
URL:https://www.agricoeur.be/event/festinoel/
LOCATION:Agricoeur\, Rue de Sart-Dames-Avelines\, 8a\, Les Bons Villers\, Brabant Wallon\, 6210\, Belgique
CATEGORIES:Évènements
ATTACH;FMTTYPE=image/webp:https://www.agricoeur.be/wp-content/uploads/2023/10/20231201-festinoel.webp
END:VEVENT
END:VCALENDAR