BEGIN:VCALENDAR
VERSION:2.0
PRODID:-//agricoeur.be - ECPv6.15.17//NONSGML v1.0//EN
CALSCALE:GREGORIAN
METHOD:PUBLISH
X-WR-CALNAME:agricoeur.be
X-ORIGINAL-URL:https://www.agricoeur.be
X-WR-CALDESC:Évènements pour agricoeur.be
REFRESH-INTERVAL;VALUE=DURATION:PT1H
X-Robots-Tag:noindex
X-PUBLISHED-TTL:PT1H
BEGIN:VTIMEZONE
TZID:Europe/Paris
BEGIN:DAYLIGHT
TZOFFSETFROM:+0100
TZOFFSETTO:+0200
TZNAME:CEST
DTSTART:20220327T010000
END:DAYLIGHT
BEGIN:STANDARD
TZOFFSETFROM:+0200
TZOFFSETTO:+0100
TZNAME:CET
DTSTART:20221030T010000
END:STANDARD
BEGIN:DAYLIGHT
TZOFFSETFROM:+0100
TZOFFSETTO:+0200
TZNAME:CEST
DTSTART:20230326T010000
END:DAYLIGHT
BEGIN:STANDARD
TZOFFSETFROM:+0200
TZOFFSETTO:+0100
TZNAME:CET
DTSTART:20231029T010000
END:STANDARD
BEGIN:DAYLIGHT
TZOFFSETFROM:+0100
TZOFFSETTO:+0200
TZNAME:CEST
DTSTART:20240331T010000
END:DAYLIGHT
BEGIN:STANDARD
TZOFFSETFROM:+0200
TZOFFSETTO:+0100
TZNAME:CET
DTSTART:20241027T010000
END:STANDARD
END:VTIMEZONE
BEGIN:VEVENT
DTSTART;TZID=Europe/Paris:20231220T140000
DTEND;TZID=Europe/Paris:20231220T180000
DTSTAMP:20260422T230341
CREATED:20231201T102608Z
LAST-MODIFIED:20231214T150852Z
UID:1066-1703080800-1703095200@www.agricoeur.be
SUMMARY:Contest de Noël – Clôture du projet Jeunesse
DESCRIPTION:Le mercredi 20 décembre\, ce sera la fête avant les fêtes ! Au menu de cette après-midi (14h-18h) animée par MaXextrême et organisée par le 38\, Carrefour culturel de Genappe dans le cadre de la clôture du projet jeunesse du GAL : un contest de skate et trott’\, des tricks\, de la good musique et de nombreux prix à gagner ! Ce dernier évènement marquera également la clôture de l’ensemble de la programmation du GAL Pays des Bras. Les nombreux acteurs qui ont œuvré aux projets au cours des six années écoulées sont les bienvenus ! Il se murmure que le bar restera ouvert jusque 20h avec au menu\, une belle palette de bières locales… \nPlus d’infos et programme détaillé : https://www.ccgenappe.be/2023/11/21/contest-de-noel/
URL:https://www.agricoeur.be/event/contest-de-noel-cloture-du-projet-jeunesse/
LOCATION:Agricoeur\, Rue de Sart-Dames-Avelines\, 8a\, Les Bons Villers\, Brabant Wallon\, 6210\, Belgique
CATEGORIES:Évènements
ATTACH;FMTTYPE=image/webp:https://www.agricoeur.be/wp-content/uploads/2023/12/20231220_Skate-contest.webp
ORGANIZER;CN="Le 38 - Carrefour culturel de Genappe":MAILTO:info@le38.be
END:VEVENT
END:VCALENDAR