BEGIN:VCALENDAR
VERSION:2.0
PRODID:-//agricoeur.be - ECPv6.15.17//NONSGML v1.0//EN
CALSCALE:GREGORIAN
METHOD:PUBLISH
X-WR-CALNAME:agricoeur.be
X-ORIGINAL-URL:https://www.agricoeur.be
X-WR-CALDESC:Évènements pour agricoeur.be
REFRESH-INTERVAL;VALUE=DURATION:PT1H
X-Robots-Tag:noindex
X-PUBLISHED-TTL:PT1H
BEGIN:VTIMEZONE
TZID:Europe/Paris
BEGIN:DAYLIGHT
TZOFFSETFROM:+0100
TZOFFSETTO:+0200
TZNAME:CEST
DTSTART:20220327T010000
END:DAYLIGHT
BEGIN:STANDARD
TZOFFSETFROM:+0200
TZOFFSETTO:+0100
TZNAME:CET
DTSTART:20221030T010000
END:STANDARD
BEGIN:DAYLIGHT
TZOFFSETFROM:+0100
TZOFFSETTO:+0200
TZNAME:CEST
DTSTART:20230326T010000
END:DAYLIGHT
BEGIN:STANDARD
TZOFFSETFROM:+0200
TZOFFSETTO:+0100
TZNAME:CET
DTSTART:20231029T010000
END:STANDARD
BEGIN:DAYLIGHT
TZOFFSETFROM:+0100
TZOFFSETTO:+0200
TZNAME:CEST
DTSTART:20240331T010000
END:DAYLIGHT
BEGIN:STANDARD
TZOFFSETFROM:+0200
TZOFFSETTO:+0100
TZNAME:CET
DTSTART:20241027T010000
END:STANDARD
BEGIN:DAYLIGHT
TZOFFSETFROM:+0100
TZOFFSETTO:+0200
TZNAME:CEST
DTSTART:20250330T010000
END:DAYLIGHT
BEGIN:STANDARD
TZOFFSETFROM:+0200
TZOFFSETTO:+0100
TZNAME:CET
DTSTART:20251026T010000
END:STANDARD
END:VTIMEZONE
BEGIN:VEVENT
DTSTART;TZID=Europe/Paris:20240319T091500
DTEND;TZID=Europe/Paris:20240326T170000
DTSTAMP:20260422T140910
CREATED:20240124T080836Z
LAST-MODIFIED:20240307T135751Z
UID:1308-1710839700-1711472400@www.agricoeur.be
SUMMARY:Fermes partagées : prêtes et prêts à vivre l’aventure?
DESCRIPTION:2 jours\, le 19/03 et le 26/03/2024 de 9h15 à 17h – Vous avez envie ou venez de reprendre une ferme à plusieurs? Maraîcher\, éleveur ou encore boulanger\, vous vous demandez comment mieux organiser votre collectif sur un même lieu? Ferme autogérée ou plutôt de services\, enjeux économiques\, prêt de matériels… les sujets qui peuvent faire l’objet de fortes tensions sont nombreux. Venez faire le point avec nous\, vous poser les questions essentielles pour une gestion participative réussie et bénéficier de l’expérience d’autres collectifs. \nPlus d’infos : Fermes partagées : prêtes et prêts à vivre l’aventure? – SAW-B Fédération d’économie sociale
URL:https://www.agricoeur.be/event/fermes-partagees-pretes-et-prets-a-vivre-l-aventure/
LOCATION:Agricoeur\, Rue de Sart-Dames-Avelines\, 8a\, Les Bons Villers\, Brabant Wallon\, 6210\, Belgique
CATEGORIES:Formations
ATTACH;FMTTYPE=image/webp:https://www.agricoeur.be/wp-content/uploads/2024/01/Fermes-partagees.webp
ORGANIZER;CN="SAW-B":MAILTO:info@saw-b.be
END:VEVENT
BEGIN:VEVENT
DTSTART;TZID=Europe/Paris:20240319T090000
DTEND;TZID=Europe/Paris:20240326T160000
DTSTAMP:20260422T140910
CREATED:20240229T144159Z
LAST-MODIFIED:20240307T140157Z
UID:1325-1710838800-1711468800@www.agricoeur.be
SUMMARY:Formation Odoo Comptabilité
DESCRIPTION:2 jours de formation pour démarrer avec le module Comptabilité d’Odoo\, les mardis 19 et 26 mars 2024 \nJOUR 1 \n1. Concepts clés \n2. Configuration et paramétrage des données de base : import du plan comptable et des balances\, journaux (dont les banques)\, taxes\, positions fiscales \n3. Emission de factures clients et lien avec les autres modules Odoo\, suivi des impayés \n4. Import et revue des factures fournisseurs \n5. Traitement des ordres de paiement\, dont les transactions récurrentes. \n6. Réconciliation bancaire: lettrage avec le facturier\, ou imputation directe\, configuration du lettrage assisté ou automatique \nJOUR 2 \n7. Gestion des écritures diverses: import des salaires\, produits et charges constatées d’avance\, immobilisations et amortissements \n8. Clôtures TVA et exercices: mécanismes de verrouillage de l’historique\, rapports officiels\, explicatifs sur le démarrage d’un nouvel exercice \n9. Rapports : indicateurs clés de performance\, rapport de trésorerie\, création de rapports spécifiques à partir des balances comptables (ex: budget) \n10. Comptabilité analytique: configuration\, reporting\, ventilation\, budget projet \nInscription : https://www.inoia.be/event/formation-odoo-comptabilite-1/register
URL:https://www.agricoeur.be/event/formation-odoo-comptabilite-finance/
LOCATION:Agricoeur\, Rue de Sart-Dames-Avelines\, 8a\, Les Bons Villers\, Brabant Wallon\, 6210\, Belgique
CATEGORIES:Formations
ATTACH;FMTTYPE=image/webp:https://www.agricoeur.be/wp-content/uploads/2024/01/faisabilite-fin.webp
ORGANIZER;CN="ino%C3%AFa":MAILTO:fgi@inoia.be
END:VEVENT
BEGIN:VEVENT
DTSTART;TZID=Europe/Paris:20240312T090000
DTEND;TZID=Europe/Paris:20240314T160000
DTSTAMP:20260422T140910
CREATED:20240116T105927Z
LAST-MODIFIED:20240307T133108Z
UID:1234-1710234000-1710432000@www.agricoeur.be
SUMMARY:Explorez les outils de communication pour votre projet
DESCRIPTION:Un programme collectif fournissant les outils nécessaires à la création de votre entreprise! \n\nVous avez un projet concret\, après vérification de la faisabilité de votre projet\, il vous manque des outils pour mettre en place votre stratégie marketing et communication ?\nAvec ce programme collectif court\, vous apprendrez à définir votre stratégie marketing\, à choisir les canaux de communication les mieux adaptés à votre activité\, à élaborer du story-telling au service de vos produits. Le formateur\, spécialiste du marketing digital\, va vous donner des astuces pour démarrer votre activité sur les réseaux sociaux et Google.\nContenu des 3 jours :\n– L’importance du marketing et du story-telling –\n– Mon client cible et moi –\n– Les réseaux sociaux et la communication locale via Google –\nAvec ce cycle vous obtiendrez des réponses concrètes\, des outils nécessaires pour avancer dans la concrétisation de votre entreprise. \n\n\n\n\n\n\n\n\n\nPour qui ? Femmes et hommes habitant en Région wallonne ou voulant créer une activité en Région wallonne. Demandeur d’emploi ou assimilé (mutuelle\, CPAS…).\nDate : du 12/03/2024 au 14/03/2024 de 9h à 16h\nLieu : Agricoeur Pole Circuit-Court\, Rue de Sart-Dames-Avelines 8A\, 6210 Les Bons Villers\nPrérequis : Premier contact avec une conseillère\nPrix : gratuit
URL:https://www.agricoeur.be/event/explorez-les-outils-de-communication-pour-votre-projet/
LOCATION:Agricoeur\, Rue de Sart-Dames-Avelines\, 8a\, Les Bons Villers\, Brabant Wallon\, 6210\, Belgique
CATEGORIES:Formations
ATTACH;FMTTYPE=image/webp:https://www.agricoeur.be/wp-content/uploads/2024/01/outils-de-communication-1080x675-1.webp
END:VEVENT
BEGIN:VEVENT
DTSTART;TZID=Europe/Paris:20240213T090000
DTEND;TZID=Europe/Paris:20240220T160000
DTSTAMP:20260422T140910
CREATED:20240116T104811Z
LAST-MODIFIED:20240307T134524Z
UID:1230-1707814800-1708444800@www.agricoeur.be
SUMMARY:Analyse de la faisabilité financière de votre projet
DESCRIPTION:Un programme collectif fournissant les outils nécessaires à la création de votre entreprise ! \n\nVous avez un projet concret\, à la suite de votre étude de marché\, il vous manque des outils pour vérifier la rentabilité de votre activité ? Vous aimeriez savoir comment construire un plan financier ?\nAvec ce cycle vous obtiendrez des réponses concrètes\, des outils nécessaires pour avancer dans la concrétisation de votre entreprise.\nAvec ce programme collectif court\, vous apprendrez à assimiler des notions telles que la TVA\, les cotisations sociales\, les impôts\, le chiffre d’affaires et la construction de votre prix\, et à prendre en main notre outil Excel pour réaliser un plan financier basé sur des éléments concrets. \n\n\n\n\n\n\n\n\n\nPour qui ? Femmes et hommes habitant en Région wallonne ou voulant créer une activité en Région wallonne. Demandeur d’emploi ou assimilé (mutuelle\, CPAS…).\nDate : le 13\, 15 et 20 février 2024 de 9h à 16h\nLieu : Agricoeur Pole Circuit-Court\, Rue de Sart-Dames-Avelines 8A\, 6210 Les Bons Villers\nPrérequis : Premier contact avec une conseillère\nPrix : gratuit
URL:https://www.agricoeur.be/event/analyse-de-la-faisabilite-financiere-de-votre-projet/
LOCATION:Agricoeur\, Rue de Sart-Dames-Avelines\, 8a\, Les Bons Villers\, Brabant Wallon\, 6210\, Belgique
CATEGORIES:Formations
ATTACH;FMTTYPE=image/webp:https://www.agricoeur.be/wp-content/uploads/2024/01/faisabilite-fin.webp
END:VEVENT
BEGIN:VEVENT
DTSTART;TZID=Europe/Paris:20240123T091500
DTEND;TZID=Europe/Paris:20240130T170000
DTSTAMP:20260422T140910
CREATED:20240124T080638Z
LAST-MODIFIED:20240307T135541Z
UID:1305-1706001300-1706634000@www.agricoeur.be
SUMMARY:Fermes partagées : prêtes et prêts à vivre l’aventure?
DESCRIPTION:2 jours\, le 23/01 et le 30/01/2024 de 9h15 à 17h – Vous avez envie ou venez de reprendre une ferme à plusieurs? Maraîcher\, éleveur ou encore boulanger\, vous vous demandez comment mieux organiser votre collectif sur un même lieu? Ferme autogérée ou plutôt de services\, enjeux économiques\, prêt de matériels… les sujets qui peuvent faire l’objet de fortes tensions sont nombreux. Venez faire le point avec nous\, vous poser les questions essentielles pour une gestion participative réussie et bénéficier de l’expérience d’autres collectifs. \nPlus d’infos : Fermes partagées : prêtes et prêts à vivre l’aventure? – SAW-B Fédération d’économie sociale
URL:https://www.agricoeur.be/event/fermes-partagees-pretes-et-prets-a-vivre-laventure/
LOCATION:Agricoeur\, Rue de Sart-Dames-Avelines\, 8a\, Les Bons Villers\, Brabant Wallon\, 6210\, Belgique
CATEGORIES:Formations
ATTACH;FMTTYPE=image/webp:https://www.agricoeur.be/wp-content/uploads/2024/01/Fermes-partagees.webp
ORGANIZER;CN="SAW-B":MAILTO:info@saw-b.be
END:VEVENT
BEGIN:VEVENT
DTSTART;TZID=Europe/Paris:20240116T090000
DTEND;TZID=Europe/Paris:20240125T160000
DTSTAMP:20260422T140910
CREATED:20240116T104413Z
LAST-MODIFIED:20240307T135109Z
UID:1227-1705395600-1706198400@www.agricoeur.be
SUMMARY:Validez la faisabilité de votre projet en alimentation ou artisanat
DESCRIPTION:Un programme collectif fournissant les outils nécessaires à la création de votre entreprise! \nVous avez un projet concret\, à la suite de votre étude de marché\, il vous manque des outils pour vérifier la faisabilité de votre activité ? Vous devez déterminer vos canaux de distribution\, votre capacité de production\, votre food-cost? \n\nAvec ce cycle vous obtiendrez des réponses concrètes\, des outils nécessaires pour avancer dans la concrétisation de votre entreprise.\nAvec ce programme collectif court\, vous apprendrez à évaluer votre capacité de production\, à choisir les canaux de distribution les mieux adapté à votre activité\, à concilier rentabilité et valeurs. sociales\, les impôts\, le chiffre d’affaires et la construction de votre prix\, et à prendre en main notre outil Excel pour réaliser un plan financier basé sur des éléments concrets. \n\n\n\n\n\n\n\n\n\nPour qui ? Femmes et hommes habitant en Région wallonne ou voulant créer une activité en Région wallonne. Demandeur d’emploi ou assimilé (mutuelle\, CPAS…).\nDate : le 16\, 18\, 23 et 25 janvier 2024 de 9h à 16h\nLieu : Agricoeur Pole Circuit-Court\, Rue de Sart-Dames-Avelines 8A\, 6210 Les Bons Villers\nPrérequis : Premier contact avec une conseillère\nPrix : gratuit
URL:https://www.agricoeur.be/event/validez-la-faisabilite-votre-projet-en-alimentation-ou-artisanat/
LOCATION:Agricoeur\, Rue de Sart-Dames-Avelines\, 8a\, Les Bons Villers\, Brabant Wallon\, 6210\, Belgique
CATEGORIES:Formations
ATTACH;FMTTYPE=image/webp:https://www.agricoeur.be/wp-content/uploads/2024/01/entrepreneur.webp
END:VEVENT
BEGIN:VEVENT
DTSTART;TZID=Europe/Paris:20231212T090000
DTEND;TZID=Europe/Paris:20231214T160000
DTSTAMP:20260422T140910
CREATED:20231201T094217Z
LAST-MODIFIED:20231214T155052Z
UID:1049-1702371600-1702569600@www.agricoeur.be
SUMMARY:Plan de financement\, rentabilité et trésorerie
DESCRIPTION:Vous avez un projet concret\, et à la suite de votre étude de marché\, il vous manque des outils pour vérifier la rentabilité de votre activité ? Vous aimeriez savoir comment construire un plan financier ? \nAvec cette formation\, vous obtiendrez tous les outils nécessaires pour avancer dans la concrétisation de votre entreprise. \n\nPassage en revue des notions clés :\n\nla TVA\nles cotisations sociales\nles impôts\nle chiffre d’affaires\nla construction de votre prix\n\n\n\n\nPrise en main de notre outil Excel pour réaliser un plan financier basé sur des éléments concrets.\n\nInformations pratiques \n\nQuand ?\n\n\n\n\nAnalyse de la faisabilité financière – Plan de financement – 12/12/2023 – de 9h à 16h\nAnalyse de la faisabilité financière – Rentabilité et trésorerie – 13/12/2023 – de 9h à 16h\nMéthodes de financements et l’outil Plan Financier – 14/12/2023 – de 9h à 16h\n\n\n\n\nPour qui ? Femmes et hommes habitant en Région wallonne ou voulant créer une activité en Région wallonne. Demandeur d’emploi ou assimilé (mutuelle\, CPAS…).\nPrix : Gratuit\n\nInscriptions : Formation : plan de financement\, rentabilité et trésorerie | Crédal (credal.be)
URL:https://www.agricoeur.be/event/plan-de-financement-rentabilite-et-tresorerie/
LOCATION:Agricoeur\, Rue de Sart-Dames-Avelines\, 8a\, Les Bons Villers\, Brabant Wallon\, 6210\, Belgique
CATEGORIES:Formations
ATTACH;FMTTYPE=image/webp:https://www.agricoeur.be/wp-content/uploads/2023/12/202312_Formation-Credal-1.webp
END:VEVENT
END:VCALENDAR